BEGIN:VCALENDAR
VERSION:2.0
PRODID:-//InteropEHRate - ECPv5.1.5//NONSGML v1.0//EN
CALSCALE:GREGORIAN
METHOD:PUBLISH
X-WR-CALNAME:InteropEHRate
X-ORIGINAL-URL:https://www.interopehrate.eu
X-WR-CALDESC:Events for InteropEHRate
BEGIN:VTIMEZONE
TZID:Europe/Rome
BEGIN:DAYLIGHT
TZOFFSETFROM:+0100
TZOFFSETTO:+0200
TZNAME:CEST
DTSTART:20200329T010000
END:DAYLIGHT
BEGIN:STANDARD
TZOFFSETFROM:+0200
TZOFFSETTO:+0100
TZNAME:CET
DTSTART:20201025T010000
END:STANDARD
END:VTIMEZONE
BEGIN:VEVENT
DTSTART;TZID=Europe/Rome:20201001T150000
DTEND;TZID=Europe/Rome:20201001T163000
DTSTAMP:20260422T121150
CREATED:20200928T115817Z
LAST-MODIFIED:20200928T123050Z
UID:1289-1601564400-1601569800@www.interopehrate.eu
SUMMARY:Webinar: Deep diving into health data ecosystems for integrated care
DESCRIPTION:Sharing data between different stakeholders to coordinate and develop proactive care approaches is a foundational principle of advanced integrated care systems. How to develop and sustain health data ecosystems for integrated care is a common challenge everywhere. \nEcosystems’ governance can boost progress on incorporating new health data sources and digital health innovations but depending on the health system context may adopt different approaches. \nOn 1 October\, EHTEL Digital Integrated Care Taskforce organises the virtual workshop “Deep diving into health data ecosystems for integrated care: sustainability and governance” to explore which governance principles and functions were adopted in two advanced digital health systems and how these governance mechanisms contributed to spurring innovation and ensuring long-term sustainability.\nEHTEL is open for guests: On the event page\, an invitation can be requested. \n
URL:https://www.interopehrate.eu/event/webinar-deep-diving-into-health-data-ecosystems-for-integrated-care/
LOCATION:Digital Online Event [URL on Registration]
ATTACH;FMTTYPE=image/png:https://www.interopehrate.eu/wp-content/uploads/2020/09/EHTEL-DICT-Webinar-Health-Data-Eco-sytems-Deep-Diving.png
END:VEVENT
END:VCALENDAR