BEGIN:VCALENDAR
VERSION:2.0
PRODID:-//InteropEHRate - ECPv5.1.5//NONSGML v1.0//EN
CALSCALE:GREGORIAN
METHOD:PUBLISH
X-WR-CALNAME:InteropEHRate
X-ORIGINAL-URL:https://www.interopehrate.eu
X-WR-CALDESC:Events for InteropEHRate
BEGIN:VTIMEZONE
TZID:Europe/Rome
BEGIN:DAYLIGHT
TZOFFSETFROM:+0100
TZOFFSETTO:+0200
TZNAME:CEST
DTSTART:20200329T010000
END:DAYLIGHT
BEGIN:STANDARD
TZOFFSETFROM:+0200
TZOFFSETTO:+0100
TZNAME:CET
DTSTART:20201025T010000
END:STANDARD
END:VTIMEZONE
BEGIN:VEVENT
DTSTART;TZID=Europe/Rome:20201110T093000
DTEND;TZID=Europe/Rome:20201110T173000
DTSTAMP:20260425T160205
CREATED:20201030T153614Z
LAST-MODIFIED:20201110T154051Z
UID:1515-1605000600-1605029400@www.interopehrate.eu
SUMMARY:Digital Health 2020 – EU on the Move (High Level Conference of EU Presidency)
DESCRIPTION:As one of the highlights of Germany’s Presidency of the Council of the EU\, the High-Level Conference “Digital Health 2020 – EU on the Move” aims at advancing discussions in the area of digital health. Federal Minister of Health of Germany\, Jens Spahn\, will open the conference bringing together representatives from all parties involved in advancing digital health – decision makers from politics\, science\, medicine\, business\, civil society\, including patient representatives\, and healthcare professions. \nThe conference offers opportunities for communication and exchange on how best to attain a common European Health Data Space (EHDS)\, which is one of the most important initiatives at EU level in the field of digital health. In light of the development of the COVID-19 pandemic\, the conference is being held in a virtual format and includes opportunities for interactive participation. \nThe high-level conference will be streamed live here in German and English on 11 November 2020 from 9.30. \nThe purpose of this conference is to present current and future applications of Big Data and Artificial Intelligence in the healthcare sector and to analyse and discuss both potential and as well as possible risks. The aim is to identify the added value that the EU and Europe\, as a common economic\, legal and value-based community\, have to offer in the field of Big Data and AI for science-driven\, value-based and patient-centred healthcare. This conference takes you on a patient journey and lets you discover AI in three important healthcare settings: application of AI in everyday life\, application of AI in outpatient care\, and application of AI and Big Data in hospitals. \nGuests of the Digital Health Conference 2020\nSpeakers include: Wojciech Wiewiórowski\, European Data Protection Supervisor; Claire Bury\, Deputy Director-General DG SANTE of the European Commission; Lloyd Minor\, Dean of the Stanford Medical School and Guido Rasi\, Executive Director of the European Medicines Agency. The Ministers of Health of Ireland\, the Netherlands\, Denmark and Norway will share their expertise and experience. The programme will culminate in a high-level political panel\, in particular with Stella Kyriakides\, EU Commissioner for Health and Food Safety\, Estonian President Kersti Kaljulaid\, Rainer Wieland\, Vice-President of the European Parliament\, and Germany’s Federal Minister of Health Jens Spahn. \n
URL:https://www.interopehrate.eu/event/digital-health-2020-eu-on-the-move-high-level-conference-of-eu-presidency/
LOCATION:Digital Online Event
ATTACH;FMTTYPE=image/jpeg:https://www.interopehrate.eu/wp-content/uploads/2020/10/EU2020-Germany-Logo-1245.jpg
END:VEVENT
END:VCALENDAR